BEGIN:VCALENDAR
VERSION:2.0
PRODID:-//104.152.168.27//NONSGML kigkonsult.se iCalcreator 2.20//
CALSCALE:GREGORIAN
METHOD:PUBLISH
X-WR-TIMEZONE:Asia/Tokyo
BEGIN:VEVENT
UID:event2183@Tokyo Gig Guide
DTSTAMP:20260422T154605Z
CATEGORIES:Noise
DESCRIPTION:Keiji Haino\nカテゴリ: Noise\nリンク: https://www.tokyogigguide.com/in
 dex.php?option=com_jem&view=event&id=2183:keiji-haino&Itemid=1094\n
DTSTART:20091230T235900
DTEND:20091230T235900
LOCATION:Showboat\,Oak Hill Koenji B1F\, 3-17-2 Koenji Kita\,Koenji
SUMMARY:Keiji Haino
URL:https://www.tokyogigguide.com/index.php?option=com_jem&view=event&id=21
 83:keiji-haino&Itemid=1094
END:VEVENT
END:VCALENDAR
