BEGIN:VCALENDAR
VERSION:2.0
PRODID:-//104.152.168.27//NONSGML kigkonsult.se iCalcreator 2.20//
CALSCALE:GREGORIAN
METHOD:PUBLISH
X-WR-TIMEZONE:Asia/Tokyo
BEGIN:VEVENT
UID:event2184@Tokyo Gig Guide
DTSTAMP:20260421T183728Z
CATEGORIES:Rock
DESCRIPTION:TENSAW\nカテゴリ: Rock\nリンク: https://www.tokyogigguide.com/index.ph
 p?option=com_jem&view=event&id=2184:tensaw&Itemid=1094\n
DTSTART:20091231T213000
DTEND:20091231T213000
LOCATION:Showboat\,Oak Hill Koenji B1F\, 3-17-2 Koenji Kita\,Koenji
SUMMARY:TENSAW
URL:https://www.tokyogigguide.com/index.php?option=com_jem&view=event&id=21
 84:tensaw&Itemid=1094
END:VEVENT
END:VCALENDAR
