BEGIN:VCALENDAR
VERSION:2.0
PRODID:-//104.152.168.27//NONSGML kigkonsult.se iCalcreator 2.20//
CALSCALE:GREGORIAN
METHOD:PUBLISH
X-WR-TIMEZONE:Asia/Tokyo
BEGIN:VEVENT
UID:event2286@Tokyo Gig Guide
DTSTAMP:20260422T194443Z
CATEGORIES:Indie-Rock
DESCRIPTION:Aiha Higurashi\, UMIBACHI\, henrytennis\nカテゴリ: Indie-Rock\nリンク:
  https://www.tokyogigguide.com/index.php?option=com_jem&view=event&id=2286
 :aiha-higurashi-umibachi-henrytennis&Itemid=1094\n
DTSTART:20100205T183000
DTEND:20100205T183000
LOCATION:Three\,Kitazawa 5-18-1 B1F\, Setagaya-ku\, Tokyo\,Shimokitazawa
SUMMARY:Aiha Higurashi\, UMIBACHI\, henrytennis
URL:https://www.tokyogigguide.com/index.php?option=com_jem&view=event&id=22
 86:aiha-higurashi-umibachi-henrytennis&Itemid=1094
END:VEVENT
END:VCALENDAR
