BEGIN:VCALENDAR
VERSION:2.0
PRODID:-//104.152.168.27//NONSGML kigkonsult.se iCalcreator 2.20//
CALSCALE:GREGORIAN
METHOD:PUBLISH
X-WR-TIMEZONE:Asia/Tokyo
BEGIN:VEVENT
UID:event22863@Tokyo Gig Guide
DTSTAMP:20260422T215415Z
CATEGORIES:All Mix\, Hard Rock\, Improvised\, Jazz
DESCRIPTION:Daisaku Kume\, Vagabond Suzuki\, Yasuo Sano\, Natsuki Kido\, Ka
 ori Takahashi\nカテゴリ: All Mix\, Hard Rock\, Improvised\, Jazz\nリンク: https:/
 /www.tokyogigguide.com/index.php?option=com_jem&view=event&id=22863:daisak
 u-kume-vagabond-suzuki-yasuo-sano-natsuki-kido-kaori-takahashi&Itemid=1094
 \n
DTSTART:20190731T183000
DTEND:20190731T183000
LOCATION:Jirokichi\,Koenji Bldg B1\, 2-3-4 Koenji-kita\,Koenji
SUMMARY:Daisaku Kume\, Vagabond Suzuki\, Yasuo Sano\, Natsuki Kido\, Kaori 
 Takahashi
URL:https://www.tokyogigguide.com/index.php?option=com_jem&view=event&id=22
 863:daisaku-kume-vagabond-suzuki-yasuo-sano-natsuki-kido-kaori-takahashi&I
 temid=1094
END:VEVENT
END:VCALENDAR
