BEGIN:VCALENDAR
VERSION:2.0
PRODID:-//104.152.168.27//NONSGML kigkonsult.se iCalcreator 2.20//
CALSCALE:GREGORIAN
METHOD:PUBLISH
X-WR-TIMEZONE:Asia/Tokyo
BEGIN:VEVENT
UID:event2290@Tokyo Gig Guide
DTSTAMP:20260420T020947Z
CATEGORIES:Mixed Genre
DESCRIPTION:salsa\, THE BITE\, Mikami Kan\, Haikarasan\, the highest\nカテゴリ:
  Mixed Genre\nリンク: https://www.tokyogigguide.com/index.php?option=com_jem&
 view=event&id=2290:salsa-the-bite-mikami-kan-haikarasan-the-highest&Itemid
 =1094\n
DTSTART:20100220T183000
DTEND:20100220T183000
LOCATION:Three\,Kitazawa 5-18-1 B1F\, Setagaya-ku\, Tokyo\,Shimokitazawa
SUMMARY:salsa\, THE BITE\, Mikami Kan\, Haikarasan\, the highest
URL:https://www.tokyogigguide.com/index.php?option=com_jem&view=event&id=22
 90:salsa-the-bite-mikami-kan-haikarasan-the-highest&Itemid=1094
END:VEVENT
END:VCALENDAR
