BEGIN:VCALENDAR
VERSION:2.0
PRODID:-//104.152.168.27//NONSGML kigkonsult.se iCalcreator 2.20//
CALSCALE:GREGORIAN
METHOD:PUBLISH
X-WR-TIMEZONE:Asia/Tokyo
BEGIN:VEVENT
UID:event24355@Tokyo Gig Guide
DTSTAMP:20260425T032903Z
CATEGORIES:Avant garde\, Instrumental\, Progressive
DESCRIPTION:Korekyojinn (Natsuki Kido\, Mitsuru Nasuno\, Tatsuya Yoshida)\n
 カテゴリ: Avant garde\, Instrumental\, Progressive\nリンク: https://www.tokyogigg
 uide.com/index.php?option=com_jem&view=event&id=24355:korekyojinn-natsuki-
 kido-mitsuru-nasuno-tatsuya-yoshida&Itemid=1094\n
DTSTART:20200207T183000
DTEND:20200207T183000
LOCATION:Studio WUU\,5F\, 1-5-20 kashiwa\, kashiwa-shi\, Chiba\,Kashiwa
SUMMARY:Korekyojinn (Natsuki Kido\, Mitsuru Nasuno\, Tatsuya Yoshida)
URL:https://www.tokyogigguide.com/index.php?option=com_jem&view=event&id=24
 355:korekyojinn-natsuki-kido-mitsuru-nasuno-tatsuya-yoshida&Itemid=1094
END:VEVENT
END:VCALENDAR
