BEGIN:VCALENDAR
VERSION:2.0
PRODID:-//104.152.168.27//NONSGML kigkonsult.se iCalcreator 2.20//
CALSCALE:GREGORIAN
METHOD:PUBLISH
X-WR-TIMEZONE:Asia/Tokyo
BEGIN:VEVENT
UID:event24371@Tokyo Gig Guide
DTSTAMP:20260425T110031Z
CATEGORIES:Rock
DESCRIPTION:Natsuki Kido\, Hirokuni Korekata\, Kenji Sato\, Yoshihito Eto\n
 カテゴリ: Rock\nリンク: https://www.tokyogigguide.com/index.php?option=com_jem&vi
 ew=event&id=24371:natsuki-kido-hirokuni-korekata-kenji-sato-yoshihito-eto&
 Itemid=1094\n
DTSTART:20200311T183000
DTEND:20200311T183000
LOCATION:Ongakushitsu DX\,B1F 3-20-4 Nishiwaseda Shinjuku-ku Tokyo\,Takadan
 obaba
SUMMARY:Natsuki Kido\, Hirokuni Korekata\, Kenji Sato\, Yoshihito Eto
URL:https://www.tokyogigguide.com/index.php?option=com_jem&view=event&id=24
 371:natsuki-kido-hirokuni-korekata-kenji-sato-yoshihito-eto&Itemid=1094
END:VEVENT
END:VCALENDAR
