BEGIN:VCALENDAR
VERSION:2.0
PRODID:-//104.152.168.27//NONSGML kigkonsult.se iCalcreator 2.20//
CALSCALE:GREGORIAN
METHOD:PUBLISH
X-WR-TIMEZONE:Asia/Tokyo
BEGIN:VEVENT
UID:event25326@Tokyo Gig Guide
DTSTAMP:20260420T193104Z
CATEGORIES:Avant garde
DESCRIPTION:Sabu Toyozumi & Yoko Arai   improvisation duo\nカテゴリ: Avant gard
 e\nリンク: https://www.tokyogigguide.com/index.php?option=com_jem&view=event&
 id=25326:sabu-toyosumi-yoko-arai-improvisation-duo&Itemid=1094\n
DTSTART:20210511T183000
DTEND:20210511T183000
LOCATION:Dolphy\,2-17-4-2F Miyagawa-cho\, Naka-ku\, Yokohama\,Yokohama
SUMMARY:Sabu Toyozumi & Yoko Arai   improvisation duo
URL:https://www.tokyogigguide.com/index.php?option=com_jem&view=event&id=25
 326:sabu-toyosumi-yoko-arai-improvisation-duo&Itemid=1094
END:VEVENT
END:VCALENDAR
