BEGIN:VCALENDAR
VERSION:2.0
PRODID:-//104.152.168.27//NONSGML kigkonsult.se iCalcreator 2.20//
CALSCALE:GREGORIAN
METHOD:PUBLISH
X-WR-TIMEZONE:Asia/Tokyo
BEGIN:VEVENT
UID:event25879@Tokyo Gig Guide
DTSTAMP:20260420T035631Z
CATEGORIES:Jazz
DESCRIPTION:Ryoichiro Masuda\, Masatake Abe\nカテゴリ: Jazz\nリンク: https://www.t
 okyogigguide.com/index.php?option=com_jem&view=event&id=25879:ryoichiro-ma
 suda-masatake-abe&Itemid=1094\n
DTSTART;VALUE=DATE:20220621
DTEND;VALUE=DATE:20220622
LOCATION:In-F\,3F 3-4-19 higashiooizumi\, nerima-ku\, Tokyo\,Oizumigakuen
SUMMARY:Ryoichiro Masuda\, Masatake Abe
URL:https://www.tokyogigguide.com/index.php?option=com_jem&view=event&id=25
 879:ryoichiro-masuda-masatake-abe&Itemid=1094
END:VEVENT
END:VCALENDAR
