BEGIN:VCALENDAR
VERSION:2.0
PRODID:-//104.152.168.27//NONSGML kigkonsult.se iCalcreator 2.20//
CALSCALE:GREGORIAN
METHOD:PUBLISH
X-WR-TIMEZONE:Asia/Tokyo
BEGIN:VEVENT
UID:event27450@Tokyo Gig Guide
DTSTAMP:20260423T042347Z
CATEGORIES:Noise\, Art\, Experimental\, Festival\, Improvised
DESCRIPTION:DOMMUNE Noise University: HEX + doravideo\, 天鼓 + 原田 JIN\, 田中悠美子
  + 伊東篤宏\, 森田潤 + マイモ・リティ (涅槃の犬)\, 沖縄電子少女彩 + 安永桃瀬\, 妖精マリチェル\nカテゴリ: Noise\, A
 rt\, Experimental\, Festival\, Improvised\nリンク: https://www.tokyogigguide.
 com/index.php?option=com_jem&view=event&id=27450:hex-doravideo-jin&Itemid=
 1094\n
DTSTART:20230427T193000
DTEND:20230427T193000
LOCATION:SUPER DOMMUNE\,15-1 Udagawa-Cho\, Shibuya-ku\, Tokyo\, PARCO9F\,Sh
 ibuya
SUMMARY:DOMMUNE Noise University: HEX + doravideo\, 天鼓 + 原田 JIN\, 田中悠美子 + 伊
 東篤宏\, 森田潤 + マイモ・リティ (涅槃の犬)\, 沖縄電子少女彩 + 安永桃瀬\, 妖精マリチェル
URL:https://www.tokyogigguide.com/index.php?option=com_jem&view=event&id=27
 450:hex-doravideo-jin&Itemid=1094
END:VEVENT
END:VCALENDAR
