BEGIN:VCALENDAR
VERSION:2.0
PRODID:-//104.152.168.27//NONSGML kigkonsult.se iCalcreator 2.20//
CALSCALE:GREGORIAN
METHOD:PUBLISH
X-WR-TIMEZONE:Asia/Tokyo
BEGIN:VEVENT
UID:event27577@Tokyo Gig Guide
DTSTAMP:20260425T022226Z
CATEGORIES:DJ
DESCRIPTION:Cobahn\, DJ MARIA.\, sofheso\, imus\nカテゴリ: DJ\nリンク: https://www
 .tokyogigguide.com/index.php?option=com_jem&view=event&id=27577:cobahn-dj-
 maria-sofheso-imus&Itemid=1094\n
DTSTART:20230428T230000
DTEND:20230428T230000
LOCATION:SPREAD\,2-12-6 Kitazawa\, Setagaya-ku\, Tokyo\,Shimokitazawa
SUMMARY:Cobahn\, DJ MARIA.\, sofheso\, imus
URL:https://www.tokyogigguide.com/index.php?option=com_jem&view=event&id=27
 577:cobahn-dj-maria-sofheso-imus&Itemid=1094
END:VEVENT
END:VCALENDAR
