BEGIN:VCALENDAR
VERSION:2.0
PRODID:-//104.152.168.27//NONSGML kigkonsult.se iCalcreator 2.20//
CALSCALE:GREGORIAN
METHOD:PUBLISH
X-WR-TIMEZONE:Asia/Tokyo
BEGIN:VEVENT
UID:event27855@Tokyo Gig Guide
DTSTAMP:20260425T192652Z
CATEGORIES:DJ
DESCRIPTION:GROW THE CULTURE TAKEOVER w/ Akey\, Frankie $\nカテゴリ: DJ\nリンク: h
 ttps://www.tokyogigguide.com/index.php?option=com_jem&view=event&id=27855:
 midnight-runner-maidable-follow-the-shadows-akey-frankie&Itemid=1094\n
DTSTART:20230610T230000
DTEND:20230610T230000
LOCATION:SPREAD\,2-12-6 Kitazawa\, Setagaya-ku\, Tokyo\,Shimokitazawa
SUMMARY:GROW THE CULTURE TAKEOVER w/ Akey\, Frankie $
URL:https://www.tokyogigguide.com/index.php?option=com_jem&view=event&id=27
 855:midnight-runner-maidable-follow-the-shadows-akey-frankie&Itemid=1094
END:VEVENT
END:VCALENDAR
