BEGIN:VCALENDAR
VERSION:2.0
PRODID:-//104.152.168.27//NONSGML kigkonsult.se iCalcreator 2.20//
CALSCALE:GREGORIAN
METHOD:PUBLISH
X-WR-TIMEZONE:Asia/Tokyo
BEGIN:VEVENT
UID:event28365@Tokyo Gig Guide
DTSTAMP:20260421T013712Z
CATEGORIES:Acoustic\, Free Jazz\, Improvised\, Instrumental
DESCRIPTION:Tatsuyuki Tamai (pf)\, Takashi Yamane (cl)\, Kaoru Nishimura (c
 l)\nカテゴリ: Acoustic\, Free Jazz\, Improvised\, Instrumental\nリンク: https://w
 ww.tokyogigguide.com/index.php?option=com_jem&view=event&id=28365:tatsuyuk
 i-tamai-pf-takashi-yamane-cl-kaoru-nishimura-cl&Itemid=1094\n
DTSTART:20231002T190000
DTEND:20231002T190000
LOCATION:In-F\,3F 3-4-19 higashiooizumi\, nerima-ku\, Tokyo\,Oizumigakuen
SUMMARY:Tatsuyuki Tamai (pf)\, Takashi Yamane (cl)\, Kaoru Nishimura (cl)
URL:https://www.tokyogigguide.com/index.php?option=com_jem&view=event&id=28
 365:tatsuyuki-tamai-pf-takashi-yamane-cl-kaoru-nishimura-cl&Itemid=1094
END:VEVENT
END:VCALENDAR
