BEGIN:VCALENDAR
VERSION:2.0
PRODID:-//104.152.168.27//NONSGML kigkonsult.se iCalcreator 2.20//
CALSCALE:GREGORIAN
METHOD:PUBLISH
X-WR-TIMEZONE:Asia/Tokyo
BEGIN:VEVENT
UID:event2907@Tokyo Gig Guide
DTSTAMP:20260425T144919Z
CATEGORIES:Psychedelic
DESCRIPTION:Chris Silva\nカテゴリ: Psychedelic\nリンク: https://www.tokyogigguide.
 com/index.php?option=com_jem&view=event&id=2907:chris-silva-live-no-charge
 &Itemid=1094\n
DTSTART:20100527T200000
DTEND:20100527T200000
LOCATION:Gamuso\,Takuei Building 2F\, Asagaya-kita 2-12-5\,Asagaya
SUMMARY:Chris Silva
URL:https://www.tokyogigguide.com/index.php?option=com_jem&view=event&id=29
 07:chris-silva-live-no-charge&Itemid=1094
END:VEVENT
END:VCALENDAR
