BEGIN:VCALENDAR
VERSION:2.0
PRODID:-//104.152.168.27//NONSGML kigkonsult.se iCalcreator 2.20//
CALSCALE:GREGORIAN
METHOD:PUBLISH
X-WR-TIMEZONE:Asia/Tokyo
BEGIN:VEVENT
UID:event2975@Tokyo Gig Guide
DTSTAMP:20260421T175113Z
CATEGORIES:Rock
DESCRIPTION:Wabo-Chao\, KAWAGUCHI MASAMI'S NEW ROCK SYNDICATE\, cOyOte\nカテゴ
 リ: Rock\nリンク: https://www.tokyogigguide.com/index.php?option=com_jem&view=
 event&id=2975:wabo-chao-kawaguchi-masamis-new-rock-syndicate-coyote&Itemid
 =1094\n
DTSTART:20100609T190000
DTEND:20100609T190000
LOCATION:Showboat\,Oak Hill Koenji B1F\, 3-17-2 Koenji Kita\,Koenji
SUMMARY:Wabo-Chao\, KAWAGUCHI MASAMI'S NEW ROCK SYNDICATE\, cOyOte
URL:https://www.tokyogigguide.com/index.php?option=com_jem&view=event&id=29
 75:wabo-chao-kawaguchi-masamis-new-rock-syndicate-coyote&Itemid=1094
END:VEVENT
END:VCALENDAR
