BEGIN:VCALENDAR
VERSION:2.0
PRODID:-//104.152.168.27//NONSGML kigkonsult.se iCalcreator 2.20//
CALSCALE:GREGORIAN
METHOD:PUBLISH
X-WR-TIMEZONE:Asia/Tokyo
BEGIN:VEVENT
UID:event3028@Tokyo Gig Guide
DTSTAMP:20260423T082926Z
CATEGORIES:Psychedelic
DESCRIPTION:GREEN FLAMES\nカテゴリ: Psychedelic\nリンク: https://www.tokyogigguide
 .com/index.php?option=com_jem&view=event&id=3028:green-flames&Itemid=1094
 \n
DTSTART:20100615T190000
DTEND:20100615T190000
LOCATION:Showboat\,Oak Hill Koenji B1F\, 3-17-2 Koenji Kita\,Koenji
SUMMARY:GREEN FLAMES
URL:https://www.tokyogigguide.com/index.php?option=com_jem&view=event&id=30
 28:green-flames&Itemid=1094
END:VEVENT
END:VCALENDAR
