BEGIN:VCALENDAR
VERSION:2.0
PRODID:-//104.152.168.27//NONSGML kigkonsult.se iCalcreator 2.20//
CALSCALE:GREGORIAN
METHOD:PUBLISH
X-WR-TIMEZONE:Asia/Tokyo
BEGIN:VEVENT
UID:event30612@Tokyo Gig Guide
DTSTAMP:20260422T223320Z
CATEGORIES:Acoustic\, Avant garde\, Improvised\, Instrumental\, Progressive
DESCRIPTION:ERA (Natsuki Kido\, Akihisa Tsuboi)\nカテゴリ: Acoustic\, Avant gar
 de\, Improvised\, Instrumental\, Progressive\nリンク: https://www.tokyogiggui
 de.com/index.php?option=com_jem&view=event&id=30612:era-natsuki-kido-akihi
 sa-tsuboi&Itemid=1094\n
DTSTART:20240501T183000
DTEND:20240501T183000
LOCATION:Ongakushitsu DX\,B1F 3-20-4 Nishiwaseda Shinjuku-ku Tokyo\,Takadan
 obaba
SUMMARY:ERA (Natsuki Kido\, Akihisa Tsuboi)
URL:https://www.tokyogigguide.com/index.php?option=com_jem&view=event&id=30
 612:era-natsuki-kido-akihisa-tsuboi&Itemid=1094
END:VEVENT
END:VCALENDAR
