BEGIN:VCALENDAR
VERSION:2.0
PRODID:-//104.152.168.27//NONSGML kigkonsult.se iCalcreator 2.20//
CALSCALE:GREGORIAN
METHOD:PUBLISH
X-WR-TIMEZONE:Asia/Tokyo
BEGIN:VEVENT
UID:event3082@Tokyo Gig Guide
DTSTAMP:20260422T210553Z
CATEGORIES:Mixed Genre
DESCRIPTION:She Talks Silence\, Yamaco\, DJ Sumire\, + more\nカテゴリ: Mixed Ge
 nre\nリンク: https://www.tokyogigguide.com/index.php?option=com_jem&view=even
 t&id=3082:she-talks-silence-yamaco-dj-sumire--more&Itemid=1094\n
DTSTART:20100703T190000
DTEND:20100703T190000
LOCATION:Knock (Koenji)\,Koenji Minami 3-48-6  B1F\,Koenji
SUMMARY:She Talks Silence\, Yamaco\, DJ Sumire\, + more
URL:https://www.tokyogigguide.com/index.php?option=com_jem&view=event&id=30
 82:she-talks-silence-yamaco-dj-sumire--more&Itemid=1094
END:VEVENT
END:VCALENDAR
