BEGIN:VCALENDAR
VERSION:2.0
PRODID:-//104.152.168.27//NONSGML kigkonsult.se iCalcreator 2.20//
CALSCALE:GREGORIAN
METHOD:PUBLISH
X-WR-TIMEZONE:Asia/Tokyo
BEGIN:VEVENT
UID:event31143@Tokyo Gig Guide
DTSTAMP:20260423T205521Z
CATEGORIES:Rock
DESCRIPTION:kohaku\, Hodie\, LOVE AND CIGARETTES\nカテゴリ: Rock\nリンク: https://
 www.tokyogigguide.com/index.php?option=com_jem&view=event&id=31143:kohaku-
 hodie-love-and-cigarettes&Itemid=1094\n
DTSTART:20240430T190000
DTEND:20240430T190000
LOCATION:SPREAD\,2-12-6 Kitazawa\, Setagaya-ku\, Tokyo\,Shimokitazawa
SUMMARY:kohaku\, Hodie\, LOVE AND CIGARETTES
URL:https://www.tokyogigguide.com/index.php?option=com_jem&view=event&id=31
 143:kohaku-hodie-love-and-cigarettes&Itemid=1094
END:VEVENT
END:VCALENDAR
