BEGIN:VCALENDAR
VERSION:2.0
PRODID:-//104.152.168.27//NONSGML kigkonsult.se iCalcreator 2.20//
CALSCALE:GREGORIAN
METHOD:PUBLISH
X-WR-TIMEZONE:Asia/Tokyo
BEGIN:VEVENT
UID:event31163@Tokyo Gig Guide
DTSTAMP:20260424T031533Z
CATEGORIES:Acoustic\, Jazz
DESCRIPTION:Yoshiaki Miyanoue (g)\, Mitsukuni Tanabe (g)\nカテゴリ: Acoustic\, 
 Jazz\nリンク: https://www.tokyogigguide.com/index.php?option=com_jem&view=eve
 nt&id=31163:yoshiaki-miyanoue-g-mitsukuni-tanabe-g&Itemid=1094\n
DTSTART:20240419T190000
DTEND:20240419T190000
LOCATION:Giee\,Sanko Bldg. Ba\, 2-3-9 Honmachi\, Kokubunji\, Tokyo\,Kokubun
 ji
SUMMARY:Yoshiaki Miyanoue (g)\, Mitsukuni Tanabe (g)
URL:https://www.tokyogigguide.com/index.php?option=com_jem&view=event&id=31
 163:yoshiaki-miyanoue-g-mitsukuni-tanabe-g&Itemid=1094
END:VEVENT
END:VCALENDAR
