BEGIN:VCALENDAR
VERSION:2.0
PRODID:-//104.152.168.27//NONSGML kigkonsult.se iCalcreator 2.20//
CALSCALE:GREGORIAN
METHOD:PUBLISH
X-WR-TIMEZONE:Asia/Tokyo
BEGIN:VEVENT
UID:event3226@Tokyo Gig Guide
DTSTAMP:20260420T002148Z
CATEGORIES:Mixed Genre
DESCRIPTION:GROUNDCOVER.\, Ultra Functor\, Limited Express (has gone?)\, ne
 mo\, PASTA FASTA\, more\nカテゴリ: Mixed Genre\nリンク: https://www.tokyogigguide
 .com/index.php?option=com_jem&view=event&id=3226:groundcover-ultra-functor
 -limited-express-has-gone-nemo-pasta-fasta-more&Itemid=1094\n
DTSTART:20100730T200000
DTEND:20100730T200000
LOCATION:Three\,Kitazawa 5-18-1 B1F\, Setagaya-ku\, Tokyo\,Shimokitazawa
SUMMARY:GROUNDCOVER.\, Ultra Functor\, Limited Express (has gone?)\, nemo\,
  PASTA FASTA\, more
URL:https://www.tokyogigguide.com/index.php?option=com_jem&view=event&id=32
 26:groundcover-ultra-functor-limited-express-has-gone-nemo-pasta-fasta-mor
 e&Itemid=1094
END:VEVENT
END:VCALENDAR
