BEGIN:VCALENDAR
VERSION:2.0
PRODID:-//104.152.168.27//NONSGML kigkonsult.se iCalcreator 2.20//
CALSCALE:GREGORIAN
METHOD:PUBLISH
X-WR-TIMEZONE:Asia/Tokyo
BEGIN:VEVENT
UID:event32347@Tokyo Gig Guide
DTSTAMP:20260422T041037Z
CATEGORIES:All Mix\, Avant garde\, Experimental\, Improvised\, Mixed Genre
DESCRIPTION:HEAVENLY ARMS [藤掛正隆\, 加藤一平\, 西村雄介] + エミ・エレオノーラ + ジョン (犬)\nカテゴリ:
  All Mix\, Avant garde\, Experimental\, Improvised\, Mixed Genre\nリンク: htt
 ps://www.tokyogigguide.com/index.php?option=com_jem&view=event&id=32347:he
 avenly-arms&Itemid=1094\n
DTSTART:20240826T183000
DTEND:20240826T183000
LOCATION:Jirokichi\,Koenji Bldg B1\, 2-3-4 Koenji-kita\,Koenji
SUMMARY:HEAVENLY ARMS [藤掛正隆\, 加藤一平\, 西村雄介] + エミ・エレオノーラ + ジョン (犬)
URL:https://www.tokyogigguide.com/index.php?option=com_jem&view=event&id=32
 347:heavenly-arms&Itemid=1094
END:VEVENT
END:VCALENDAR
