BEGIN:VCALENDAR
VERSION:2.0
PRODID:-//104.152.168.27//NONSGML kigkonsult.se iCalcreator 2.20//
CALSCALE:GREGORIAN
METHOD:PUBLISH
X-WR-TIMEZONE:Asia/Tokyo
BEGIN:VEVENT
UID:event324@Tokyo Gig Guide
DTSTAMP:20260422T133126Z
CATEGORIES:Unclassifiable
DESCRIPTION:ELEKTRO HUMANGEL\, CARRE\, OFF SEASON\, CxPxS\, BUTTHEAD SUNGLA
 SS\, INCAPACITANTS...\nカテゴリ: Unclassifiable\nリンク: https://www.tokyogigguid
 e.com/index.php?option=com_jem&view=event&id=324:elektro-humangel-carre-of
 f-season-cxpxs-butthead-sunglass-incapacitants&Itemid=1094\n
DTSTART:20081124T170000
DTEND:20081124T170000
LOCATION:Earthdom\,Lisbon Bldg B1F\, 3-32-3 Okubo\, Shinjuku-ku\,Okubo
SUMMARY:ELEKTRO HUMANGEL\, CARRE\, OFF SEASON\, CxPxS\, BUTTHEAD SUNGLASS\,
  INCAPACITANTS...
URL:https://www.tokyogigguide.com/index.php?option=com_jem&view=event&id=32
 4:elektro-humangel-carre-off-season-cxpxs-butthead-sunglass-incapacitants&
 Itemid=1094
END:VEVENT
END:VCALENDAR
