BEGIN:VCALENDAR
VERSION:2.0
PRODID:-//104.152.168.27//NONSGML kigkonsult.se iCalcreator 2.20//
CALSCALE:GREGORIAN
METHOD:PUBLISH
X-WR-TIMEZONE:Asia/Tokyo
BEGIN:VEVENT
UID:event33171@Tokyo Gig Guide
DTSTAMP:20260424T091241Z
CATEGORIES:Avant garde\, Experimental\, Improvised\, Noise\, WTF?
DESCRIPTION:Ami-Bique\, Tatsuya Yoshida (Ruins) & Risa Takeda\nカテゴリ: Avant 
 garde\, Experimental\, Improvised\, Noise\, WTF?\nリンク: https://www.tokyogi
 gguide.com/index.php?option=com_jem&view=event&id=33171:ami-bique&Itemid=1
 094\n
DTSTART:20241201T183000
DTEND:20241201T183000
LOCATION:SPREAD\,2-12-6 Kitazawa\, Setagaya-ku\, Tokyo\,Shimokitazawa
SUMMARY:Ami-Bique\, Tatsuya Yoshida (Ruins) & Risa Takeda
URL:https://www.tokyogigguide.com/index.php?option=com_jem&view=event&id=33
 171:ami-bique&Itemid=1094
END:VEVENT
END:VCALENDAR
