BEGIN:VCALENDAR
VERSION:2.0
PRODID:-//104.152.168.27//NONSGML kigkonsult.se iCalcreator 2.20//
CALSCALE:GREGORIAN
METHOD:PUBLISH
X-WR-TIMEZONE:Asia/Tokyo
BEGIN:VEVENT
UID:event33918@Tokyo Gig Guide
DTSTAMP:20260425T104544Z
CATEGORIES:Folk
DESCRIPTION:kenta yamashita\, Takazumi Yamaji\nカテゴリ: Folk\nリンク: https://www
 .tokyogigguide.com/index.php?option=com_jem&view=event&id=33918:kenta-yama
 shita-takazumi-yamaji&Itemid=1094\n
DTSTART:20241224T190000
DTEND:20241224T190000
LOCATION:Stax Fred\,Maruyama House B1F\, 1-7-1 Umesato\, Suginami-ku\,Shin-
 Koenji
SUMMARY:kenta yamashita\, Takazumi Yamaji
URL:https://www.tokyogigguide.com/index.php?option=com_jem&view=event&id=33
 918:kenta-yamashita-takazumi-yamaji&Itemid=1094
END:VEVENT
END:VCALENDAR
