BEGIN:VCALENDAR
VERSION:2.0
PRODID:-//104.152.168.27//NONSGML kigkonsult.se iCalcreator 2.20//
CALSCALE:GREGORIAN
METHOD:PUBLISH
X-WR-TIMEZONE:Asia/Tokyo
BEGIN:VEVENT
UID:event3402@Tokyo Gig Guide
DTSTAMP:20260422T053500Z
CATEGORIES:Indie
DESCRIPTION:aleks & the ramps\, 4 bonjour's parties\, ii\, FilFla\, tayutao
 \, oono yuuki\, more\nカテゴリ: Indie\nリンク: https://www.tokyogigguide.com/inde
 x.php?option=com_jem&view=event&id=3402:4-bonjours-parties-aleks-a-the-ram
 ps-ii&Itemid=1094\n
DTSTART:20101022T183000
DTEND:20101022T183000
LOCATION:Three\,Kitazawa 5-18-1 B1F\, Setagaya-ku\, Tokyo\,Shimokitazawa
SUMMARY:aleks & the ramps\, 4 bonjour's parties\, ii\, FilFla\, tayutao\, o
 ono yuuki\, more
URL:https://www.tokyogigguide.com/index.php?option=com_jem&view=event&id=34
 02:4-bonjours-parties-aleks-a-the-ramps-ii&Itemid=1094
END:VEVENT
END:VCALENDAR
