BEGIN:VCALENDAR
VERSION:2.0
PRODID:-//104.152.168.27//NONSGML kigkonsult.se iCalcreator 2.20//
CALSCALE:GREGORIAN
METHOD:PUBLISH
X-WR-TIMEZONE:Asia/Tokyo
BEGIN:VEVENT
UID:event34115@Tokyo Gig Guide
DTSTAMP:20260426T025927Z
CATEGORIES:Avant garde\, Dance\, Experimental\, Minimal\, Noise
DESCRIPTION:FUTURE TERROR x DOMMUNE 2024-2025'100 EXCLUSIVE”●LIVE:MERZBOW\,
 Phew\,Omegapoint●DJ:DJ NOBU\,YAZI\,ELLI ARAKAWA\,YUTA\,adak7\nカテゴリ: Avant 
 garde\, Dance\, Experimental\, Minimal\, Noise\nリンク: https://www.tokyogigg
 uide.com/index.php?option=com_jem&view=event&id=34115:future-terror-x-domm
 une-2024-2025-100-exclusive-live-merzbow-phew-omegapoint-dj-dj-nobu-yazi-e
 lli-arakawa-yuta-adak7&Itemid=1094\n
DTSTART:20241231T210000
DTEND:20241231T210000
LOCATION:SUPER DOMMUNE\,15-1 Udagawa-Cho\, Shibuya-ku\, Tokyo\, PARCO9F\,Sh
 ibuya
SUMMARY:FUTURE TERROR x DOMMUNE 2024-2025'100 EXCLUSIVE”●LIVE:MERZBOW\,Phew
 \,Omegapoint●DJ:DJ NOBU\,YAZI\,ELLI ARAKAWA\,YUTA\,adak7
URL:https://www.tokyogigguide.com/index.php?option=com_jem&view=event&id=34
 115:future-terror-x-dommune-2024-2025-100-exclusive-live-merzbow-phew-omeg
 apoint-dj-dj-nobu-yazi-elli-arakawa-yuta-adak7&Itemid=1094
END:VEVENT
END:VCALENDAR
