BEGIN:VCALENDAR
VERSION:2.0
PRODID:-//104.152.168.27//NONSGML kigkonsult.se iCalcreator 2.20//
CALSCALE:GREGORIAN
METHOD:PUBLISH
X-WR-TIMEZONE:Asia/Tokyo
BEGIN:VEVENT
UID:event34236@Tokyo Gig Guide
DTSTAMP:20260425T203220Z
CATEGORIES:Ambient\, Electronic\, Krautrock\, Psychedelic\, Soul
DESCRIPTION:Manda\, syon!\, Yaryu\, Temple Mercy\, myein\, TUPUDA\nカテゴリ: Am
 bient\, Electronic\, Krautrock\, Psychedelic\, Soul\nリンク: https://www.toky
 ogigguide.com/index.php?option=com_jem&view=event&id=34236:manda-syon-yary
 u-temple-mercy-myein-tupuda&Itemid=1094\n
DTSTART:20250115T183000
DTEND:20250115T183000
LOCATION:SPREAD\,2-12-6 Kitazawa\, Setagaya-ku\, Tokyo\,Shimokitazawa
SUMMARY:Manda\, syon!\, Yaryu\, Temple Mercy\, myein\, TUPUDA
URL:https://www.tokyogigguide.com/index.php?option=com_jem&view=event&id=34
 236:manda-syon-yaryu-temple-mercy-myein-tupuda&Itemid=1094
END:VEVENT
END:VCALENDAR
