BEGIN:VCALENDAR
VERSION:2.0
PRODID:-//104.152.168.27//NONSGML kigkonsult.se iCalcreator 2.20//
CALSCALE:GREGORIAN
METHOD:PUBLISH
X-WR-TIMEZONE:Asia/Tokyo
BEGIN:VEVENT
UID:event3429@Tokyo Gig Guide
DTSTAMP:20260421T071406Z
CATEGORIES:Psychedelic
DESCRIPTION:Majutsu No Niwa\, Green Flames\nカテゴリ: Psychedelic\nリンク: https:/
 /www.tokyogigguide.com/index.php?option=com_jem&view=event&id=3429:-green-
 flames-koenji-showboat&Itemid=1094\n
DTSTART:20101007T190000
DTEND:20101007T190000
LOCATION:Showboat\,Oak Hill Koenji B1F\, 3-17-2 Koenji Kita\,Koenji
SUMMARY:Majutsu No Niwa\, Green Flames
URL:https://www.tokyogigguide.com/index.php?option=com_jem&view=event&id=34
 29:-green-flames-koenji-showboat&Itemid=1094
END:VEVENT
END:VCALENDAR
