BEGIN:VCALENDAR
VERSION:2.0
PRODID:-//104.152.168.27//NONSGML kigkonsult.se iCalcreator 2.20//
CALSCALE:GREGORIAN
METHOD:PUBLISH
X-WR-TIMEZONE:Asia/Tokyo
BEGIN:VEVENT
UID:event34433@Tokyo Gig Guide
DTSTAMP:20260423T001040Z
CATEGORIES:Alternative\, Hardcore\, New Wave\, Punk\, Rock
DESCRIPTION:DANCEBEACH\, ニーハオ!!!! (NI-HAO!!!!)\, 六根 ROCCON\, The ティバ (The T
 IVA)\, PATROLTIME\nカテゴリ: Alternative\, Hardcore\, New Wave\, Punk\, Rock\n
 リンク: https://www.tokyogigguide.com/index.php?option=com_jem&view=event&id=
 34433:dancebeach-ni-hao-roccon-the-the-tiva-patroltime&Itemid=1094\n
DTSTART:20250412T180000
DTEND:20250412T180000
LOCATION:SPREAD\,2-12-6 Kitazawa\, Setagaya-ku\, Tokyo\,Shimokitazawa
SUMMARY:DANCEBEACH\, ニーハオ!!!! (NI-HAO!!!!)\, 六根 ROCCON\, The ティバ (The TIVA)
 \, PATROLTIME
URL:https://www.tokyogigguide.com/index.php?option=com_jem&view=event&id=34
 433:dancebeach-ni-hao-roccon-the-the-tiva-patroltime&Itemid=1094
END:VEVENT
END:VCALENDAR
