BEGIN:VCALENDAR
VERSION:2.0
PRODID:-//104.152.168.27//NONSGML kigkonsult.se iCalcreator 2.20//
CALSCALE:GREGORIAN
METHOD:PUBLISH
X-WR-TIMEZONE:Asia/Tokyo
BEGIN:VEVENT
UID:event34644@Tokyo Gig Guide
DTSTAMP:20260424T061418Z
CATEGORIES:Blues\, Free Jazz\, Hard Rock\, Improvised\, Instrumental
DESCRIPTION:Natsuki Kido\, Jiro Okada\, Motonosuke Higuchi\nカテゴリ: Blues\, F
 ree Jazz\, Hard Rock\, Improvised\, Instrumental\nリンク: https://www.tokyogi
 gguide.com/index.php?option=com_jem&view=event&id=34644:natsuki-kido-jiro-
 okada-motonosuke-higuchi&Itemid=1094\n
DTSTART:20250317T183000
DTEND:20250317T183000
LOCATION:Ongakushitsu DX\,B1F 3-20-4 Nishiwaseda Shinjuku-ku Tokyo\,Takadan
 obaba
SUMMARY:Natsuki Kido\, Jiro Okada\, Motonosuke Higuchi
URL:https://www.tokyogigguide.com/index.php?option=com_jem&view=event&id=34
 644:natsuki-kido-jiro-okada-motonosuke-higuchi&Itemid=1094
END:VEVENT
END:VCALENDAR
