BEGIN:VCALENDAR
VERSION:2.0
PRODID:-//104.152.168.27//NONSGML kigkonsult.se iCalcreator 2.20//
CALSCALE:GREGORIAN
METHOD:PUBLISH
X-WR-TIMEZONE:Asia/Tokyo
BEGIN:VEVENT
UID:event35134@Tokyo Gig Guide
DTSTAMP:20260421T184959Z
CATEGORIES:Acoustic\, Avant garde\, Improvised\, Instrumental\, Progressive
DESCRIPTION:Natsuki Kido\, Takuya Iwata\nカテゴリ: Acoustic\, Avant garde\, Imp
 rovised\, Instrumental\, Progressive\nリンク: https://www.tokyogigguide.com/i
 ndex.php?option=com_jem&view=event&id=35134:natsuki-kido-takuya-iwata&Item
 id=1094\n
DTSTART:20250328T183000
DTEND:20250328T183000
LOCATION:Ongakushitsu DX\,B1F 3-20-4 Nishiwaseda Shinjuku-ku Tokyo\,Takadan
 obaba
SUMMARY:Natsuki Kido\, Takuya Iwata
URL:https://www.tokyogigguide.com/index.php?option=com_jem&view=event&id=35
 134:natsuki-kido-takuya-iwata&Itemid=1094
END:VEVENT
END:VCALENDAR
