BEGIN:VCALENDAR
VERSION:2.0
PRODID:-//104.152.168.27//NONSGML kigkonsult.se iCalcreator 2.20//
CALSCALE:GREGORIAN
METHOD:PUBLISH
X-WR-TIMEZONE:Asia/Tokyo
BEGIN:VEVENT
UID:event35138@Tokyo Gig Guide
DTSTAMP:20260423T121833Z
CATEGORIES:Instrumental\, Progressive
DESCRIPTION:Era (Akihisa Tsuboi\, Natsuki Kido)\nカテゴリ: Instrumental\, Progr
 essive\nリンク: https://www.tokyogigguide.com/index.php?option=com_jem&view=e
 vent&id=35138:era-akihisa-tsuboi-natsuki-kido&Itemid=1094\n
DTSTART:20250411T183000
DTEND:20250411T183000
LOCATION:Ongakushitsu DX\,B1F 3-20-4 Nishiwaseda Shinjuku-ku Tokyo\,Takadan
 obaba
SUMMARY:Era (Akihisa Tsuboi\, Natsuki Kido)
URL:https://www.tokyogigguide.com/index.php?option=com_jem&view=event&id=35
 138:era-akihisa-tsuboi-natsuki-kido&Itemid=1094
END:VEVENT
END:VCALENDAR
