BEGIN:VCALENDAR
VERSION:2.0
PRODID:-//104.152.168.27//NONSGML kigkonsult.se iCalcreator 2.20//
CALSCALE:GREGORIAN
METHOD:PUBLISH
X-WR-TIMEZONE:Asia/Tokyo
BEGIN:VEVENT
UID:event35140@Tokyo Gig Guide
DTSTAMP:20260424T104922Z
CATEGORIES:Alternative\, Avant garde\, Experimental\, Improvised
DESCRIPTION:Natsuki Kido\, Falcon\, Ippei Kato\nカテゴリ: Alternative\, Avant g
 arde\, Experimental\, Improvised\nリンク: https://www.tokyogigguide.com/index
 .php?option=com_jem&view=event&id=35140:natsuki-kido-falcon-ippei-kato&Ite
 mid=1094\n
DTSTART:20250417T183000
DTEND:20250417T183000
LOCATION:Ongakushitsu DX\,B1F 3-20-4 Nishiwaseda Shinjuku-ku Tokyo\,Takadan
 obaba
SUMMARY:Natsuki Kido\, Falcon\, Ippei Kato
URL:https://www.tokyogigguide.com/index.php?option=com_jem&view=event&id=35
 140:natsuki-kido-falcon-ippei-kato&Itemid=1094
END:VEVENT
END:VCALENDAR
