BEGIN:VCALENDAR
VERSION:2.0
PRODID:-//104.152.168.27//NONSGML kigkonsult.se iCalcreator 2.20//
CALSCALE:GREGORIAN
METHOD:PUBLISH
X-WR-TIMEZONE:Asia/Tokyo
BEGIN:VEVENT
UID:event3524@Tokyo Gig Guide
DTSTAMP:20260423T001350Z
CATEGORIES:Mixed Genre
DESCRIPTION:Little Cosmo (strobo)\, Husband is Funny Isnt it\, All The Frog
 s Are Our Weekend\, more\nカテゴリ: Mixed Genre\nリンク: https://www.tokyogigguid
 e.com/index.php?option=com_jem&view=event&id=3524:little-cosmo-strobo-husb
 and-is-funny-isnt-it-all-the-frogs-are-our-weekend-more&Itemid=1094\n
DTSTART:20101008T183000
DTEND:20101008T183000
LOCATION:Three\,Kitazawa 5-18-1 B1F\, Setagaya-ku\, Tokyo\,Shimokitazawa
SUMMARY:Little Cosmo (strobo)\, Husband is Funny Isnt it\, All The Frogs Ar
 e Our Weekend\, more
URL:https://www.tokyogigguide.com/index.php?option=com_jem&view=event&id=35
 24:little-cosmo-strobo-husband-is-funny-isnt-it-all-the-frogs-are-our-week
 end-more&Itemid=1094
END:VEVENT
END:VCALENDAR
