BEGIN:VCALENDAR
VERSION:2.0
PRODID:-//104.152.168.27//NONSGML kigkonsult.se iCalcreator 2.20//
CALSCALE:GREGORIAN
METHOD:PUBLISH
X-WR-TIMEZONE:Asia/Tokyo
BEGIN:VEVENT
UID:event35270@Tokyo Gig Guide
DTSTAMP:20260425T203921Z
CATEGORIES:Acoustic\, Instrumental\, Latin
DESCRIPTION:Natsuki Kido Quinteto (Natsuki Kido\, Satoshi Kitamura\, Kumiko
  Kondo\, Hiroshi Kumada\, Toru Nishijima)\nカテゴリ: Acoustic\, Instrumental\,
  Latin\nリンク: https://www.tokyogigguide.com/index.php?option=com_jem&view=e
 vent&id=35270:natsuki-kido-quinteto-natsuki-kido-satoshi-kitamura-kumiko-k
 ondo-hiroshi-kumada-toru-nishijima&Itemid=1094\n
DTSTART:20250503T143000
DTEND:20250503T143000
LOCATION:Studio WUU\,5F\, 1-5-20 kashiwa\, kashiwa-shi\, Chiba\,Kashiwa
SUMMARY:Natsuki Kido Quinteto (Natsuki Kido\, Satoshi Kitamura\, Kumiko Kon
 do\, Hiroshi Kumada\, Toru Nishijima)
URL:https://www.tokyogigguide.com/index.php?option=com_jem&view=event&id=35
 270:natsuki-kido-quinteto-natsuki-kido-satoshi-kitamura-kumiko-kondo-hiros
 hi-kumada-toru-nishijima&Itemid=1094
END:VEVENT
END:VCALENDAR
