BEGIN:VCALENDAR
VERSION:2.0
PRODID:-//104.152.168.27//NONSGML kigkonsult.se iCalcreator 2.20//
CALSCALE:GREGORIAN
METHOD:PUBLISH
X-WR-TIMEZONE:Asia/Tokyo
BEGIN:VEVENT
UID:event35275@Tokyo Gig Guide
DTSTAMP:20260422T085004Z
CATEGORIES:Folk\, Acoustic\, Fusion\, Instrumental\, Jazz
DESCRIPTION:FRET LAND (Natsuki Kido\, Syunji Takenaka\, Hidehisa Sasaki)\nカ
 テゴリ: Folk\, Acoustic\, Fusion\, Instrumental\, Jazz\nリンク: https://www.toky
 ogigguide.com/index.php?option=com_jem&view=event&id=35275:fret-land-natsu
 ki-kido-syunji-takenaka-hidehisa-sasaki&Itemid=1094\n
DTSTART:20250717T183000
DTEND:20250717T183000
LOCATION:Ongakushitsu DX\,B1F 3-20-4 Nishiwaseda Shinjuku-ku Tokyo\,Takadan
 obaba
SUMMARY:FRET LAND (Natsuki Kido\, Syunji Takenaka\, Hidehisa Sasaki)
URL:https://www.tokyogigguide.com/index.php?option=com_jem&view=event&id=35
 275:fret-land-natsuki-kido-syunji-takenaka-hidehisa-sasaki&Itemid=1094
END:VEVENT
END:VCALENDAR
