BEGIN:VCALENDAR
VERSION:2.0
PRODID:-//104.152.168.27//NONSGML kigkonsult.se iCalcreator 2.20//
CALSCALE:GREGORIAN
METHOD:PUBLISH
X-WR-TIMEZONE:Asia/Tokyo
BEGIN:VEVENT
UID:event3532@Tokyo Gig Guide
DTSTAMP:20260422T133759Z
CATEGORIES:Alternative
DESCRIPTION:Wabo-Chao\, 42\, Bikorui\,\nカテゴリ: Alternative\nリンク: https://www
 .tokyogigguide.com/index.php?option=com_jem&view=event&id=3532:wabo-chao-4
 2-bikorui&Itemid=1094\n
DTSTART:20101005T190000
DTEND:20101005T190000
LOCATION:Showboat\,Oak Hill Koenji B1F\, 3-17-2 Koenji Kita\,Koenji
SUMMARY:Wabo-Chao\, 42\, Bikorui\,
URL:https://www.tokyogigguide.com/index.php?option=com_jem&view=event&id=35
 32:wabo-chao-42-bikorui&Itemid=1094
END:VEVENT
END:VCALENDAR
