BEGIN:VCALENDAR
VERSION:2.0
PRODID:-//104.152.168.27//NONSGML kigkonsult.se iCalcreator 2.20//
CALSCALE:GREGORIAN
METHOD:PUBLISH
X-WR-TIMEZONE:Asia/Tokyo
BEGIN:VEVENT
UID:event35649@Tokyo Gig Guide
DTSTAMP:20260423T222253Z
CATEGORIES:Ambient\, Avant garde\, Electronic\, Experimental\, Improvised
DESCRIPTION:Luca Forcucci\, Johann Diedrick\, suzueri\nカテゴリ: Ambient\, Avan
 t garde\, Electronic\, Experimental\, Improvised\nリンク: https://www.tokyogi
 gguide.com/index.php?option=com_jem&view=event&id=35649:johann-diedrick-su
 zueri-luca-forcucci&Itemid=1094\n
DTSTART:20250510T200000
DTEND:20250510T200000
LOCATION:Ftarri\,Okano Bld.B1\, 1-4-11\, Hongo\, Bunkyo-ku\, Tokyo\,Suidoba
 shi
SUMMARY:Luca Forcucci\, Johann Diedrick\, suzueri
URL:https://www.tokyogigguide.com/index.php?option=com_jem&view=event&id=35
 649:johann-diedrick-suzueri-luca-forcucci&Itemid=1094
END:VEVENT
END:VCALENDAR
