BEGIN:VCALENDAR
VERSION:2.0
PRODID:-//104.152.168.27//NONSGML kigkonsult.se iCalcreator 2.20//
CALSCALE:GREGORIAN
METHOD:PUBLISH
X-WR-TIMEZONE:Asia/Tokyo
BEGIN:VEVENT
UID:event36552@Tokyo Gig Guide
DTSTAMP:20260426T041750Z
CATEGORIES:Alternative\, Instrumental\, Pop\, Progressive
DESCRIPTION:ZABADAK (Koko Komine\, Natsuki Kido\, Hitoshi Kusunoki\, Takaak
 i Aoki\, Kentaro Uchida)\nカテゴリ: Alternative\, Instrumental\, Pop\, Progres
 sive\nリンク: https://www.tokyogigguide.com/index.php?option=com_jem&view=eve
 nt&id=36552:zabadak-koko-komine-natsuki-kido-hitoshi-kusunoki-takaaki-aoki
 -kentaro-uchida&Itemid=1094\n
DTSTART:20250707T183000
DTEND:20250707T183000
LOCATION:Ongakushitsu DX\,B1F 3-20-4 Nishiwaseda Shinjuku-ku Tokyo\,Takadan
 obaba
SUMMARY:ZABADAK (Koko Komine\, Natsuki Kido\, Hitoshi Kusunoki\, Takaaki Ao
 ki\, Kentaro Uchida)
URL:https://www.tokyogigguide.com/index.php?option=com_jem&view=event&id=36
 552:zabadak-koko-komine-natsuki-kido-hitoshi-kusunoki-takaaki-aoki-kentaro
 -uchida&Itemid=1094
END:VEVENT
END:VCALENDAR
