BEGIN:VCALENDAR
VERSION:2.0
PRODID:-//104.152.168.27//NONSGML kigkonsult.se iCalcreator 2.20//
CALSCALE:GREGORIAN
METHOD:PUBLISH
X-WR-TIMEZONE:Asia/Tokyo
BEGIN:VEVENT
UID:event36932@Tokyo Gig Guide
DTSTAMP:20260423T161653Z
CATEGORIES:Alternative\, Ambient\, Experimental\, Film
DESCRIPTION:Benoît Pioulard\, Satomimagae\nカテゴリ: Alternative\, Ambient\, Ex
 perimental\, Film\nリンク: https://www.tokyogigguide.com/index.php?option=com
 _jem&view=event&id=36932:benoit-pioulard-satomimagae&Itemid=1094\n
DTSTART:20250818T190000
DTEND:20250818T190000
LOCATION:SPREAD\,2-12-6 Kitazawa\, Setagaya-ku\, Tokyo\,Shimokitazawa
SUMMARY:Benoît Pioulard\, Satomimagae
URL:https://www.tokyogigguide.com/index.php?option=com_jem&view=event&id=36
 932:benoit-pioulard-satomimagae&Itemid=1094
END:VEVENT
END:VCALENDAR
