BEGIN:VCALENDAR
VERSION:2.0
PRODID:-//104.152.168.27//NONSGML kigkonsult.se iCalcreator 2.20//
CALSCALE:GREGORIAN
METHOD:PUBLISH
X-WR-TIMEZONE:Asia/Tokyo
BEGIN:VEVENT
UID:event36969@Tokyo Gig Guide
DTSTAMP:20260424T075340Z
CATEGORIES:Acoustic\, Alternative
DESCRIPTION:takazumi yamaji\, akarinote\nカテゴリ: Acoustic\, Alternative\nリンク:
  https://www.tokyogigguide.com/index.php?option=com_jem&view=event&id=3696
 9:takazumi-yamaji-akarinote&Itemid=1094\n
DTSTART:20250827T190000
DTEND:20250827T190000
LOCATION:Stax Fred\,Maruyama House B1F\, 1-7-1 Umesato\, Suginami-ku\,Shin-
 Koenji
SUMMARY:takazumi yamaji\, akarinote
URL:https://www.tokyogigguide.com/index.php?option=com_jem&view=event&id=36
 969:takazumi-yamaji-akarinote&Itemid=1094
END:VEVENT
END:VCALENDAR
