BEGIN:VCALENDAR
VERSION:2.0
PRODID:-//104.152.168.27//NONSGML kigkonsult.se iCalcreator 2.20//
CALSCALE:GREGORIAN
METHOD:PUBLISH
X-WR-TIMEZONE:Asia/Tokyo
BEGIN:VEVENT
UID:event371@Tokyo Gig Guide
DTSTAMP:20260423T005317Z
CATEGORIES:Experimental
DESCRIPTION:Che-SHIZU (Mukai Chie\, Takuya Nishimura)\, Yamaji Kazuhide\, T
 etsuo Furudate\nカテゴリ: Experimental\nリンク: https://www.tokyogigguide.com/ind
 ex.php?option=com_jem&view=event&id=371:che-shizu-mukai-chie-takuya-nishim
 ura-yamaji-kazuhide-tetsuo-furudate&Itemid=1094\n
DTSTART:20081116T183000
DTEND:20081116T183000
LOCATION:Showboat\,Oak Hill Koenji B1F\, 3-17-2 Koenji Kita\,Koenji
SUMMARY:Che-SHIZU (Mukai Chie\, Takuya Nishimura)\, Yamaji Kazuhide\, Tetsu
 o Furudate
URL:https://www.tokyogigguide.com/index.php?option=com_jem&view=event&id=37
 1:che-shizu-mukai-chie-takuya-nishimura-yamaji-kazuhide-tetsuo-furudate&It
 emid=1094
END:VEVENT
END:VCALENDAR
