BEGIN:VCALENDAR
VERSION:2.0
PRODID:-//104.152.168.27//NONSGML kigkonsult.se iCalcreator 2.20//
CALSCALE:GREGORIAN
METHOD:PUBLISH
X-WR-TIMEZONE:Asia/Tokyo
BEGIN:VEVENT
UID:event38039@Tokyo Gig Guide
DTSTAMP:20260425T155831Z
CATEGORIES:Dance
DESCRIPTION:Jikseong Lee Collective\, Kufuki\, in the sun\, KASAI (from Kyo
 to)\, DJ Riyo mountain\nカテゴリ: Dance\nリンク: https://www.tokyogigguide.com/in
 dex.php?option=com_jem&view=event&id=38039:jikseong-lee-collective&Itemid=
 1094\n
DTSTART:20251102T183000
DTEND:20251102T183000
LOCATION:SPREAD\,2-12-6 Kitazawa\, Setagaya-ku\, Tokyo\,Shimokitazawa
SUMMARY:Jikseong Lee Collective\, Kufuki\, in the sun\, KASAI (from Kyoto)\
 , DJ Riyo mountain
URL:https://www.tokyogigguide.com/index.php?option=com_jem&view=event&id=38
 039:jikseong-lee-collective&Itemid=1094
END:VEVENT
END:VCALENDAR
