BEGIN:VCALENDAR
VERSION:2.0
PRODID:-//104.152.168.27//NONSGML kigkonsult.se iCalcreator 2.20//
CALSCALE:GREGORIAN
METHOD:PUBLISH
X-WR-TIMEZONE:Asia/Tokyo
BEGIN:VEVENT
UID:event3825@Tokyo Gig Guide
DTSTAMP:20260423T130302Z
CATEGORIES:Rock
DESCRIPTION:MAJUTSU NO NIWA\, cOyOte\, more\nカテゴリ: Rock\nリンク: https://www.t
 okyogigguide.com/index.php?option=com_jem&view=event&id=3825:deep-inside&I
 temid=1094\n
DTSTART:20110112T183000
DTEND:20110112T183000
LOCATION:Showboat\,Oak Hill Koenji B1F\, 3-17-2 Koenji Kita\,Koenji
SUMMARY:MAJUTSU NO NIWA\, cOyOte\, more
URL:https://www.tokyogigguide.com/index.php?option=com_jem&view=event&id=38
 25:deep-inside&Itemid=1094
END:VEVENT
END:VCALENDAR
