BEGIN:VCALENDAR
VERSION:2.0
PRODID:-//104.152.168.27//NONSGML kigkonsult.se iCalcreator 2.20//
CALSCALE:GREGORIAN
METHOD:PUBLISH
X-WR-TIMEZONE:Asia/Tokyo
BEGIN:VEVENT
UID:event39489@Tokyo Gig Guide
DTSTAMP:20260424T233553Z
CATEGORIES:Acoustic\, Indie-Pop\, Indie-Rock\, Folk\, Pop
DESCRIPTION:Shim Unit\nカテゴリ: Acoustic\, Indie-Pop\, Indie-Rock\, Folk\, Pop
 \nリンク: https://www.tokyogigguide.com/index.php?option=com_jem&view=event&i
 d=39489:shim-unit&Itemid=1094\n
DTSTART:20260127T190000
DTEND:20260127T190000
LOCATION:Stax Fred\,Maruyama House B1F\, 1-7-1 Umesato\, Suginami-ku\,Shin-
 Koenji
SUMMARY:Shim Unit
URL:https://www.tokyogigguide.com/index.php?option=com_jem&view=event&id=39
 489:shim-unit&Itemid=1094
END:VEVENT
END:VCALENDAR
