BEGIN:VCALENDAR
VERSION:2.0
PRODID:-//104.152.168.27//NONSGML kigkonsult.se iCalcreator 2.20//
CALSCALE:GREGORIAN
METHOD:PUBLISH
X-WR-TIMEZONE:Asia/Tokyo
BEGIN:VEVENT
UID:event39663@Tokyo Gig Guide
DTSTAMP:20260423T050444Z
CATEGORIES:Acoustic\, Alternative
DESCRIPTION:takazumi yamaji\, yu morikawa\nカテゴリ: Acoustic\, Alternative\nリン
 ク: https://www.tokyogigguide.com/index.php?option=com_jem&view=event&id=39
 663:takazumi-yamaji-yu-morikawa&Itemid=1094\n
DTSTART:20260225T190000
DTEND:20260225T190000
LOCATION:Stax Fred\,Maruyama House B1F\, 1-7-1 Umesato\, Suginami-ku\,Shin-
 Koenji
SUMMARY:takazumi yamaji\, yu morikawa
URL:https://www.tokyogigguide.com/index.php?option=com_jem&view=event&id=39
 663:takazumi-yamaji-yu-morikawa&Itemid=1094
END:VEVENT
END:VCALENDAR
