BEGIN:VCALENDAR
VERSION:2.0
PRODID:-//104.152.168.27//NONSGML kigkonsult.se iCalcreator 2.20//
CALSCALE:GREGORIAN
METHOD:PUBLISH
X-WR-TIMEZONE:Asia/Tokyo
BEGIN:VEVENT
UID:event39986@Tokyo Gig Guide
DTSTAMP:20260420T030634Z
CATEGORIES:Avant garde\, Experimental\, Improvised\, Instrumental\, Noise R
 ock
DESCRIPTION:Ippei Kato + Masahiro Uemura + Yusuke Nishimura\nカテゴリ: Avant ga
 rde\, Experimental\, Improvised\, Instrumental\, Noise Rock\nリンク: https://
 www.tokyogigguide.com/index.php?option=com_jem&view=event&id=39986:ippei-k
 ato-masahiro-uemura-yusuke-nishimura&Itemid=1094\n
DTSTART:20260421T193000
DTEND:20260421T193000
LOCATION:Bar Isshee\,3-36-11-B1\, Sendagi\, Bunkyo-ku\,Sendagi
SUMMARY:Ippei Kato + Masahiro Uemura + Yusuke Nishimura
URL:https://www.tokyogigguide.com/index.php?option=com_jem&view=event&id=39
 986:ippei-kato-masahiro-uemura-yusuke-nishimura&Itemid=1094
END:VEVENT
END:VCALENDAR
