BEGIN:VCALENDAR
VERSION:2.0
PRODID:-//104.152.168.27//NONSGML kigkonsult.se iCalcreator 2.20//
CALSCALE:GREGORIAN
METHOD:PUBLISH
X-WR-TIMEZONE:Asia/Tokyo
BEGIN:VEVENT
UID:event39987@Tokyo Gig Guide
DTSTAMP:20260419T143659Z
CATEGORIES:Avant garde\, Electronic\, Experimental\, Free Jazz\, Improvised
DESCRIPTION:Junji Mori + Toshimaru Nakamura + Masataka Fujikake + Yusuke Ni
 shimura\nカテゴリ: Avant garde\, Electronic\, Experimental\, Free Jazz\, Impro
 vised\nリンク: https://www.tokyogigguide.com/index.php?option=com_jem&view=ev
 ent&id=39987:junji-mori-toshimaru-nakamura-masataka-fujikake-yusuke-nishim
 ura&Itemid=1094\n
DTSTART:20260422T190000
DTEND:20260422T190000
LOCATION:Aja\,Kaneko Building B1\, 2-21-5 Chuo\, Nakano-ku\, Tokyo\,Nakano-
 sakaue
SUMMARY:Junji Mori + Toshimaru Nakamura + Masataka Fujikake + Yusuke Nishim
 ura
URL:https://www.tokyogigguide.com/index.php?option=com_jem&view=event&id=39
 987:junji-mori-toshimaru-nakamura-masataka-fujikake-yusuke-nishimura&Itemi
 d=1094
END:VEVENT
END:VCALENDAR
