BEGIN:VCALENDAR
VERSION:2.0
PRODID:-//104.152.168.27//NONSGML kigkonsult.se iCalcreator 2.20//
CALSCALE:GREGORIAN
METHOD:PUBLISH
X-WR-TIMEZONE:Asia/Tokyo
BEGIN:VEVENT
UID:event4019@Tokyo Gig Guide
DTSTAMP:20260421T104922Z
CATEGORIES:Psychedelic
DESCRIPTION:Wabo-Chao\, sundelay\nカテゴリ: Psychedelic\nリンク: https://www.tokyo
 gigguide.com/index.php?option=com_jem&view=event&id=4019:wabo-chao-sundela
 y&Itemid=1094\n
DTSTART:20110107T190000
DTEND:20110107T190000
LOCATION:Showboat\,Oak Hill Koenji B1F\, 3-17-2 Koenji Kita\,Koenji
SUMMARY:Wabo-Chao\, sundelay
URL:https://www.tokyogigguide.com/index.php?option=com_jem&view=event&id=40
 19:wabo-chao-sundelay&Itemid=1094
END:VEVENT
END:VCALENDAR
